{"text_format":"3","workbook":"xlsx","n_sheets":1,"sheets":["тестовый"],"not_rendered":{"external_links":1},"read":"whole","date_system":"1900"}

{"sheet":"тестовый","index":0,"n_rows":124,"n_cols":12,"rows_kept":124,"merged":[[0,0,0,11]]}
["Протокол по итогам муниципального этапа ВсОШ по предмету \"ЛИТЕРАТУРА\"  Альметьевского муниципального района в 2019-2020 учебном году "]
["№ п/п","Муниципалитет","Полное наименование образовательного учреждения (по уставу)","Фамилия","Имя","Класс","Балл","Апеляционный балл","Итоговый балл","Максимальный балл","Статус","Предмет"]
[1,"Альметьевский",{"$f":"[1]тестовый!C3","v":"МАОУ \"СОШ№7\""},{"$f":"[1]тестовый!D3","v":"Подовалова"},{"$f":"[1]тестовый!E3","v":"Софья"},7,{"$f":"[1]тестовый!J3","v":26},null,{"$f":"G3","v":26},{"$f":"$J$37","v":30},{"$f":"[1]тестовый!N3","v":"победитель"},"литература "]
[2,{"$f":"$B$3","v":"Альметьевский"},{"$f":"[1]тестовый!C4","v":"ЧОУ СШ №23 \"Менеджер\""},{"$f":"[1]тестовый!D4","v":"Кельдюшова"},{"$f":"[1]тестовый!E4","v":"Виктория"},7,{"$f":"[1]тестовый!J4","v":26},null,26,30,{"$f":"[1]тестовый!N4","v":"победитель"},{"$f":"$L$3","v":"литература "}]
[3,"Альметьевский",{"$f":"[1]тестовый!C5","v":"МАОУ \" СОШ № 10 с углубленным изучением отдельных предметов\""},{"$f":"[1]тестовый!D5","v":"Казаева"},{"$f":"[1]тестовый!E5","v":"Яна"},7,{"$f":"[1]тестовый!J5","v":23},null,23,30,{"$f":"[1]тестовый!N5","v":"призер "},"литература "]
[4,"Альметьевский",{"$f":"[1]тестовый!C6","v":"МАОУ \"СОШ№7\""},{"$f":"[1]тестовый!D6","v":"Юдинцева"},{"$f":"[1]тестовый!E6","v":"Валерия"},7,{"$f":"[1]тестовый!J6","v":21},null,21,30,{"$f":"[1]тестовый!N6","v":"призер "},"литература "]
[5,"Альметьевский",{"$f":"[1]тестовый!C7","v":"МАОУ \" СОШ № 10 с углубленным изучением отдельных предметов\""},{"$f":"[1]тестовый!D7","v":"Мурунова"},{"$f":"[1]тестовый!E7","v":"Анастасия"},7,{"$f":"[1]тестовый!J7","v":20},null,20,30,{"$f":"[1]тестовый!N7","v":"призер "},"литература "]
[6,"Альметьевский",{"$f":"[1]тестовый!C8","v":"МБОУ \"СОШ №24\""},{"$f":"[1]тестовый!D8","v":"Сайбель"},{"$f":"[1]тестовый!E8","v":"Ксения"},7,{"$f":"[1]тестовый!J8","v":19},null,19,30,{"$f":"[1]тестовый!N8","v":"призер "},"литература "]
[7,"Альметьевский",{"$f":"[1]тестовый!C9","v":"МБОУ \"СОШ  №1, им. М.К.Тагирова\""},{"$f":"[1]тестовый!D9","v":"Садриева"},{"$f":"[1]тестовый!E9","v":"Амилия"},7,{"$f":"[1]тестовый!J9","v":19},null,19,30,{"$f":"[1]тестовый!N9","v":"призер "},"литература "]
[8,"Альметьевский",{"$f":"[1]тестовый!C10","v":"МБОУ \"СОШ №24\""},{"$f":"[1]тестовый!D10","v":"Турьянова"},{"$f":"[1]тестовый!E10","v":"Софья"},7,{"$f":"[1]тестовый!J10","v":19},null,19,30,{"$f":"[1]тестовый!N10","v":"призер "},"литература "]
[9,"Альметьевский",{"$f":"[1]тестовый!C11","v":"МБОО \"СОШ №25 имени 70-летия нефти Татарстана"},{"$f":"[1]тестовый!D11","v":"Юсупова"},{"$f":"[1]тестовый!E11","v":"Диана"},7,{"$f":"[1]тестовый!J11","v":18},null,18,30,{"$f":"[1]тестовый!N11","v":"призер "},"литература "]
[10,"Альметьевский",{"$f":"[1]тестовый!C12","v":"МАОУ \"СОШ№7\""},{"$f":"[1]тестовый!D12","v":"Багуманова"},{"$f":"[1]тестовый!E12","v":"Камилла"},7,{"$f":"[1]тестовый!J12","v":18},null,18,30,{"$f":"[1]тестовый!N12","v":"призер "},"литература "]
[11,"Альметьевский",{"$f":"[1]тестовый!C13","v":"МАОУ \"СОШ№7\""},{"$f":"[1]тестовый!D13","v":"Кузнецова"},{"$f":"[1]тестовый!E13","v":"Анастасия"},7,{"$f":"[1]тестовый!J13","v":18},null,18,30,{"$f":"[1]тестовый!N13","v":"призер "},"литература "]
[12,"Альметьевский",{"$f":"[1]тестовый!C14","v":"МБОУ\"Нижнемактаминская СОШ№2\""},{"$f":"[1]тестовый!D14","v":"Ткачёва"},{"$f":"[1]тестовый!E14","v":"Виктория"},7,{"$f":"[1]тестовый!J14","v":18},null,18,30,{"$f":"[1]тестовый!N14","v":"призер "},"литература "]
[13,"Альметьевский",{"$f":"[1]тестовый!C15","v":"МАОУ\"Лицей №2\""},{"$f":"[1]тестовый!D15","v":"Мишанова"},{"$f":"[1]тестовый!E15","v":"Елизавета "},7,{"$f":"[1]тестовый!J15","v":18},null,18,30,{"$f":"[1]тестовый!N15","v":"призер "},{"$f":"$L$3","v":"литература "}]
[14,"Альметьевский",{"$f":"[1]тестовый!C16","v":"МАОУ Гимназия №5"},{"$f":"[1]тестовый!D16","v":"Ларина"},{"$f":"[1]тестовый!E16","v":"Анастасия"},7,{"$f":"[1]тестовый!J16","v":18},null,18,30,{"$f":"[1]тестовый!N16","v":"призер "},"литература "]
[15,"Альметьевский",{"$f":"[1]тестовый!C17","v":"МБОУ СОШ № 4"},{"$f":"[1]тестовый!D17","v":"Белова"},{"$f":"[1]тестовый!E17","v":"Камилла"},7,{"$f":"[1]тестовый!J17","v":17},null,17,30,{"$f":"[1]тестовый!N17","v":"призер "},"литература "]
[16,"Альметьевский",{"$f":"[1]тестовый!C18","v":"МАОУ «СОШ №16»"},{"$f":"[1]тестовый!D18","v":"Антропова"},{"$f":"[1]тестовый!E18","v":"Анфиса"},7,{"$f":"[1]тестовый!J18","v":17},null,17,30,{"$f":"[1]тестовый!N18","v":"призер "},"литература "]
[17,"Альметьевский",{"$f":"[1]тестовый!C19","v":"МБОУ \"СОШ №11\""},{"$f":"[1]тестовый!D19","v":"Бадретдинова "},{"$f":"[1]тестовый!E19","v":"Аделина"},7,{"$f":"[1]тестовый!J19","v":16},null,16,30,{"$f":"[1]тестовый!N19","v":"призер "},"литература "]
[18,"Альметьевский",{"$f":"[1]тестовый!C20","v":"МБОУ \"СОШ №24\""},{"$f":"[1]тестовый!D20","v":"Харисова"},{"$f":"[1]тестовый!E20","v":"Аида"},7,15,null,15,30,{"$f":"$K$19","v":"призер "},"литература "]
[19,"Альметьевский",{"$f":"[1]тестовый!C21","v":"МАОУ \"Лицей №2\""},{"$f":"[1]тестовый!D21","v":"Пчельникова "},{"$f":"[1]тестовый!E21","v":"Диана"},7,{"$f":"[1]тестовый!J21","v":13},null,13,30,{"$f":"[1]тестовый!N21","v":0},"литература "]
[20,"Альметьевский",{"$f":"[1]тестовый!C22","v":"МБОУ\"Нижнемактаминская СОШ№2\""},{"$f":"[1]тестовый!D22","v":"Мухаметшина"},{"$f":"[1]тестовый!E22","v":"Камиля"},7,{"$f":"[1]тестовый!J22","v":13},null,13,30,{"$f":"[1]тестовый!N22","v":0},"литература "]
[21,"Альметьевский",{"$f":"[1]тестовый!C23","v":"МБОО \"СОШ №25 имени 70-летия нефти Татарстана"},{"$f":"[1]тестовый!D23","v":"Александрова "},{"$f":"[1]тестовый!E23","v":"Александра"},7,{"$f":"[1]тестовый!J23","v":13},null,13,30,{"$f":"[1]тестовый!N23","v":0},"литература "]
[22,"Альметьевский",{"$f":"[1]тестовый!C24","v":"МБОУ \"СОШ №25 имени 70-летия нефти Татарстана"},{"$f":"[1]тестовый!D24","v":"Исаева"},{"$f":"[1]тестовый!E24","v":"Сона"},7,{"$f":"[1]тестовый!J24","v":13},null,13,30,{"$f":"[1]тестовый!N24","v":0},"литература "]
[23,"Альметьевский",{"$f":"[1]тестовый!C25","v":"МБОУ \"СОШ№20\""},{"$f":"[1]тестовый!D25","v":"Тихонова"},{"$f":"[1]тестовый!E25","v":"Елизавета"},7,{"$f":"[1]тестовый!J25","v":13},null,13,30,{"$f":"[1]тестовый!N25","v":0},"литература "]
[24,"Альметьевский",{"$f":"[1]тестовый!C26","v":"МБОУ\"Нижнемактаминская СОШ№2\""},{"$f":"[1]тестовый!D26","v":"Романова"},{"$f":"[1]тестовый!E26","v":"Кира"},7,{"$f":"[1]тестовый!J26","v":11},null,11,30,{"$f":"[1]тестовый!N26","v":0},"литература "]
[25,"Альметьевский",{"$f":"[1]тестовый!C27","v":"МБОУ \"СОШ №24\""},{"$f":"[1]тестовый!D27","v":"Кабанова"},{"$f":"[1]тестовый!E27","v":"Виктория"},7,{"$f":"[1]тестовый!J27","v":11},null,11,30,{"$f":"[1]тестовый!N27","v":0},"литература "]
[26,"Альметьевский",{"$f":"[1]тестовый!C28","v":"МАОУ «СОШ№17»"},{"$f":"[1]тестовый!D28","v":"Глухова"},{"$f":"[1]тестовый!E28","v":"Карина"},7,{"$f":"[1]тестовый!J28","v":9},null,9,30,{"$f":"[1]тестовый!N28","v":0},"литература "]
[27,"Альметьевский",{"$f":"[1]тестовый!C29","v":"МБОУ \"Нижнемактаминская СОШ №1\""},{"$f":"[1]тестовый!D29","v":"Аглиуллина"},{"$f":"[1]тестовый!E29","v":"Алия"},7,{"$f":"[1]тестовый!J29","v":6},null,6,30,{"$f":"[1]тестовый!N29","v":0},"литература "]
[28,"Альметьевский",{"$f":"[1]тестовый!C30","v":"МАОУ ''Лицей-интернат №1''"},{"$f":"[1]тестовый!D30","v":"Султанов"},{"$f":"[1]тестовый!E30","v":"Азамат "},7,{"$f":"[1]тестовый!J30","v":5},null,5,30,{"$f":"[1]тестовый!N30","v":0},"литература "]
[29,"Альметьевский",{"$f":"[1]тестовый!C31","v":"МБОУ «СОШ №24»"},{"$f":"[1]тестовый!D31","v":"Сибгатуллина "},{"$f":"[1]тестовый!E31","v":"Виктория "},8,{"$f":"[1]тестовый!J31","v":29},null,29,{"$f":"[1]тестовый!M31","v":30},"победитель","литература "]
[30,"Альметьевский",{"$f":"[1]тестовый!C32","v":"ЧОУ СШ №23 \"Менеджер\""},{"$f":"[1]тестовый!D32","v":"Иктисанов"},{"$f":"[1]тестовый!E32","v":"Богдан"},8,{"$f":"[1]тестовый!J32","v":26},null,26,{"$f":"[1]тестовый!M32","v":30},"призер ","литература "]
[31,"Альметьевский",{"$f":"[1]тестовый!C33","v":"МАОУ \"СОШ№7\""},{"$f":"[1]тестовый!D33","v":"Аминова"},{"$f":"[1]тестовый!E33","v":"Аделина"},8,{"$f":"[1]тестовый!J33","v":23},null,23,{"$f":"[1]тестовый!M33","v":30},{"$f":"$K$32","v":"призер "},"литература "]
[32,"Альметьевский",{"$f":"[1]тестовый!C34","v":"ЧОУ СШ №23 \"Менеджер\""},{"$f":"[1]тестовый!D34","v":"Хакимов "},{"$f":"[1]тестовый!E34","v":"Руслан"},8,{"$f":"[1]тестовый!J34","v":23},null,23,{"$f":"[1]тестовый!M34","v":30},"призер ","литература "]
[33,"Альметьевский",{"$f":"[1]тестовый!C35","v":"МАОУ \" СОШ № 10 с углубленным изучением отдельных предметов\""},{"$f":"[1]тестовый!D35","v":"Максутова "},{"$f":"[1]тестовый!E35","v":"Гузель"},8,{"$f":"[1]тестовый!J35","v":21},null,{"$f":"G35","v":21},{"$f":"[1]тестовый!M35","v":30},"призер ","литература "]
[34,{"$f":"$B$3","v":"Альметьевский"},{"$f":"[1]тестовый!C36","v":"МБОУ \"СОШ № 15\""},{"$f":"[1]тестовый!D36","v":"Клепикова "},{"$f":"[1]тестовый!E36","v":"Елизавета"},8,{"$f":"[1]тестовый!J36","v":20},null,20,{"$f":"[1]тестовый!M36","v":30},"призер ","литература "]
[35,"Альметьевский",{"$f":"[1]тестовый!C37","v":"МБОУ «СОШ №20»"},{"$f":"[1]тестовый!D37","v":"Гаврилова"},{"$f":"[1]тестовый!E37","v":"Камилла"},8,{"$f":"[1]тестовый!J37","v":20},null,20,{"$f":"[1]тестовый!M37","v":30},"призер ","литература "]
[36,"Альметьевский",{"$f":"[1]тестовый!C38","v":"МАОУ \"СОШ№7\""},{"$f":"[1]тестовый!D38","v":"Еграшина"},{"$f":"[1]тестовый!E38","v":"Виктория"},8,{"$f":"[1]тестовый!J38","v":19},null,19,{"$f":"[1]тестовый!M38","v":30},"призер ","литература "]
[37,"Альметьевский",{"$f":"[1]тестовый!C39","v":"МАОУ \"СОШ№7\""},{"$f":"[1]тестовый!D39","v":"Зарипова"},{"$f":"[1]тестовый!E39","v":"Алина"},8,{"$f":"[1]тестовый!J39","v":18},null,18,{"$f":"[1]тестовый!M39","v":30},"призер ","литература "]
[38,"Альметьевский",{"$f":"[1]тестовый!C40","v":"МБОУ\"Нижнемактаминская СОШ№2\""},{"$f":"[1]тестовый!D40","v":"Гайсина "},{"$f":"[1]тестовый!E40","v":"Ралина"},8,{"$f":"[1]тестовый!J40","v":17},null,17,{"$f":"[1]тестовый!M40","v":30},"призер ","литература "]
[39,"Альметьевский",{"$f":"[1]тестовый!C41","v":"МБОУ \"СОШ  №1, им. М.К.Тагирова\""},{"$f":"[1]тестовый!D41","v":"Мингалимова"},{"$f":"[1]тестовый!E41","v":"Алина"},8,{"$f":"[1]тестовый!J41","v":17},null,17,{"$f":"[1]тестовый!M41","v":30},"призер ","литература "]
[40,"Альметьевский",{"$f":"[1]тестовый!C42","v":"МБОУ\"Нижнемактаминская СОШ№2\""},{"$f":"[1]тестовый!D42","v":"Бибарсова"},{"$f":"[1]тестовый!E42","v":"Карина"},8,{"$f":"[1]тестовый!J42","v":17},null,17,{"$f":"[1]тестовый!M42","v":30},"призер ","литература "]
[41,"Альметьевский",{"$f":"[1]тестовый!C43","v":"МАОУ Гимназия №5"},{"$f":"[1]тестовый!D43","v":"Мустафина "},{"$f":"[1]тестовый!E43","v":"Идель"},8,{"$f":"[1]тестовый!J43","v":16},null,16,{"$f":"[1]тестовый!M43","v":30},"призер ","литература "]
[42,"Альметьевский",{"$f":"[1]тестовый!C44","v":"МАОУ ''Лицей-интернат №1''"},{"$f":"[1]тестовый!D44","v":"Салахутдинов"},{"$f":"[1]тестовый!E44","v":"Наиль"},8,{"$f":"[1]тестовый!J44","v":15},null,15,{"$f":"[1]тестовый!M44","v":30},"призер ","литература "]
[43,"Альметьевский",{"$f":"[1]тестовый!C45","v":"МБОУ \"СОШ №11\""},{"$f":"[1]тестовый!D45","v":"Нестеров "},{"$f":"[1]тестовый!E45","v":"Дмитрий "},8,{"$f":"[1]тестовый!J45","v":15},null,15,{"$f":"[1]тестовый!M45","v":30},{"$f":"$K$32","v":"призер "},"литература "]
[44,"Альметьевский",{"$f":"[1]тестовый!C46","v":"МБОУ \"СОШ №4\""},{"$f":"[1]тестовый!D46","v":"Кляшкина"},{"$f":"[1]тестовый!E46","v":"Альяна"},8,{"$f":"[1]тестовый!J46","v":14},null,14,{"$f":"[1]тестовый!M46","v":30},{"$f":"[1]тестовый!N46","v":0},"литература "]
[45,"Альметьевский",{"$f":"[1]тестовый!C47","v":"МАОУ Гимназия №5"},{"$f":"[1]тестовый!D47","v":"Мотыгуллина"},{"$f":"[1]тестовый!E47","v":"Амина"},8,{"$f":"[1]тестовый!J47","v":12},null,12,{"$f":"[1]тестовый!M47","v":30},{"$f":"[1]тестовый!N47","v":0},{"$f":"$L$3","v":"литература "}]
[46,"Альметьевский",{"$f":"[1]тестовый!C48","v":"МАОУ \"СОШ№7\""},{"$f":"[1]тестовый!D48","v":"Гурьянова"},{"$f":"[1]тестовый!E48","v":"Алия"},8,{"$f":"[1]тестовый!J48","v":11},null,11,{"$f":"[1]тестовый!M48","v":30},{"$f":"[1]тестовый!N48","v":0},"литература "]
[47,"Альметьевский",{"$f":"[1]тестовый!C49","v":"МБОУ \"Средняя общеобразовательная школа №6\""},{"$f":"[1]тестовый!D49","v":"Валиев"},{"$f":"[1]тестовый!E49","v":"Камиль"},8,{"$f":"[1]тестовый!J49","v":9},null,9,{"$f":"[1]тестовый!M49","v":30},{"$f":"[1]тестовый!N49","v":0},"литература "]
[48,"Альметьевский",{"$f":"[1]тестовый!C50","v":"МБОУ «СОШ №13»"},{"$f":"[1]тестовый!D50","v":"Рахматшоев"},{"$f":"[1]тестовый!E50","v":"Тимур"},8,{"$f":"[1]тестовый!J50","v":7},null,7,{"$f":"[1]тестовый!M50","v":30},{"$f":"[1]тестовый!N50","v":0},"литература "]
[49,"Альметьевский",{"$f":"[1]тестовый!C51","v":"МБОУ\"Нижнемактаминская СОШ№2\""},{"$f":"[1]тестовый!D51","v":"Баранцева"},{"$f":"[1]тестовый!E51","v":"Реанна"},8,{"$f":"[1]тестовый!J51","v":3},null,3,{"$f":"[1]тестовый!M51","v":30},{"$f":"[1]тестовый!N51","v":0},"литература "]
[{"$f":"G52","v":74},{"$f":"$B$3","v":"Альметьевский"},{"$f":"[1]тестовый!C52","v":"МБОУ \"СОШ №25 имени 70-летия нефти Татарстана"},{"$f":"[1]тестовый!D52","v":"Агапова"},{"$f":"[1]тестовый!E52","v":"Дарья"},9,{"$f":"[1]тестовый!J52","v":74},null,74,100,"призер ",{"$f":"$L$3","v":"литература "}]
[62,"Альметьевский",{"$f":"[1]тестовый!C53","v":"МАОУ \"Лицей №2\""},{"$f":"[1]тестовый!D53","v":"Мартынова"},{"$f":"[1]тестовый!E53","v":"Юлия"},9,{"$f":"[1]тестовый!J53","v":62},null,62,100,{"$f":"$K$52","v":"призер "},"литература "]
[50,"Альметьевский",{"$f":"[1]тестовый!C54","v":"МБОУ \"СОШ№20\""},{"$f":"[1]тестовый!D54","v":"Фархутдинова"},{"$f":"[1]тестовый!E54","v":"Регина"},9,{"$f":"[1]тестовый!J54","v":50},null,50,100,{"$f":"$K$52","v":"призер "},"литература "]
[45,"Альметьевский",{"$f":"[1]тестовый!C55","v":"МБОУ\"СОШ \"11\""},{"$f":"[1]тестовый!D55","v":"Валиева"},{"$f":"[1]тестовый!E55","v":"Диана"},9,{"$f":"[1]тестовый!J55","v":45},null,45,{"$f":"$J$52","v":100},{"$f":"[1]тестовый!N55","v":0},"литература "]
[43,"Альметьевский",{"$f":"[1]тестовый!C56","v":"МАОУ \" СОШ № 10 с углубленным изучением отдельных предметов\""},{"$f":"[1]тестовый!D56","v":"Жирнова"},{"$f":"[1]тестовый!E56","v":"Елизавета"},9,{"$f":"[1]тестовый!J56","v":43},null,43,100,{"$f":"[1]тестовый!N56","v":0},"литература "]
[41,"Альметьевский",{"$f":"[1]тестовый!C57","v":"МБОУ \"Нижнемактаминская СОШ №2\""},{"$f":"[1]тестовый!D57","v":"Мильдиярова"},{"$f":"[1]тестовый!E57","v":"Арина "},9,{"$f":"[1]тестовый!J57","v":41},null,41,100,{"$f":"[1]тестовый!N57","v":0},"литература "]
[38,"Альметьевский",{"$f":"[1]тестовый!C58","v":"МАОУ \"СОШ№7\""},{"$f":"[1]тестовый!D58","v":"Калимуллиан "},{"$f":"[1]тестовый!E58","v":"Софья "},{"$f":"[1]тестовый!G58","v":9},{"$f":"[1]тестовый!J58","v":38},null,38,100,{"$f":"[1]тестовый!N58","v":0},"литература "]
[38,"Альметьевский",{"$f":"[1]тестовый!C60","v":"МБОУ \"Гимназия №1 им.Р.Фахретдина\""},{"$f":"[1]тестовый!D60","v":"Шигапова "},{"$f":"[1]тестовый!E60","v":"Диляра"},9,38,null,38,100,{"$f":"[1]тестовый!N60","v":0},"литература "]
[37,"Альметьевский",{"$f":"[1]тестовый!C59","v":"МАОУ \"СОШ№7\""},{"$f":"[1]тестовый!D59","v":"Кузьмина"},{"$f":"[1]тестовый!E59","v":"Юлия"},9,{"$f":"[1]тестовый!J59","v":37},null,37,100,{"$f":"[1]тестовый!N59","v":0},"литература "]
[37,{"$f":"$B$76","v":"Альметьевский"},{"$f":"$C$64","v":"МБОУ \"Гимназия №1 им.Р.Фахретдина\""},"Абзалов ","Булат",9,37,null,37,100,null,{"$f":"$L$76","v":"литература "}]
[36,{"$f":"$B$3","v":"Альметьевский"},{"$f":"[1]тестовый!C61","v":"МБОО \"СОШ №24\""},{"$f":"[1]тестовый!D61","v":"Константинова "},{"$f":"[1]тестовый!E61","v":"Дарья"},9,{"$f":"[1]тестовый!J61","v":36},null,36,{"$f":"$J$52","v":100},{"$f":"[1]тестовый!N61","v":0},{"$f":"$L$3","v":"литература "}]
[35,"Альметьевский",{"$f":"[1]тестовый!C62","v":"МБОУ \"СОШ № 15\""},{"$f":"[1]тестовый!D62","v":"Неклюдова"},{"$f":"[1]тестовый!E62","v":"Ангелина"},{"$f":"[1]тестовый!G62","v":9},{"$f":"[1]тестовый!J62","v":35},null,35,100,{"$f":"[1]тестовый!N62","v":0},"литература "]
[34,"Альметьевский",{"$f":"[1]тестовый!C63","v":"МБОУ \"Гимназия №1 им.Р.Фахретдина\""},{"$f":"[1]тестовый!D63","v":"Каримова"},{"$f":"[1]тестовый!E63","v":"Индира"},{"$f":"[1]тестовый!G63","v":9},{"$f":"[1]тестовый!J63","v":34},null,34,100,{"$f":"[1]тестовый!N63","v":0},"литература "]
[34,"Альметьевский",{"$f":"[1]тестовый!C64","v":"МАОУ ''Лицей-интернат №1''"},{"$f":"[1]тестовый!D64","v":"Исмаилов"},{"$f":"[1]тестовый!E64","v":"Эмиль "},{"$f":"[1]тестовый!G64","v":9},{"$f":"[1]тестовый!J64","v":34},null,34,100,{"$f":"[1]тестовый!N64","v":0},"литература "]
[33,"Альметьевский",{"$f":"[1]тестовый!C65","v":"МБОУ\"СОШ \"11\""},{"$f":"[1]тестовый!D65","v":"Казак"},{"$f":"[1]тестовый!E65","v":"Елизавета"},{"$f":"[1]тестовый!G65","v":9},{"$f":"[1]тестовый!J65","v":33},null,33,100,{"$f":"[1]тестовый!N65","v":0},"литература "]
[32,"Альметьевский",{"$f":"[1]тестовый!C66","v":"МАОУ \"СОШ№7\""},{"$f":"[1]тестовый!D66","v":"Трофимова"},{"$f":"[1]тестовый!E66","v":"Анна"},{"$f":"[1]тестовый!G66","v":9},{"$f":"[1]тестовый!J66","v":32},null,{"$f":"G67","v":32},100,{"$f":"[1]тестовый!N66","v":0},"литература "]
[32,"Альметьевский",{"$f":"[1]тестовый!C67","v":"МАОУ \" СОШ № 10 с углубленным изучением отдельных предметов\""},{"$f":"[1]тестовый!D67","v":"Рахматуллина"},{"$f":"[1]тестовый!E67","v":"Карина"},{"$f":"[1]тестовый!G67","v":9},{"$f":"[1]тестовый!J67","v":32},null,32,100,{"$f":"[1]тестовый!N67","v":0},"литература "]
[31,"Альметьевский",{"$f":"[1]тестовый!C68","v":"СОШ №4"},{"$f":"[1]тестовый!D68","v":"Сагидуллин"},{"$f":"[1]тестовый!E68","v":"Эррият"},{"$f":"[1]тестовый!G68","v":9},{"$f":"[1]тестовый!J68","v":31},null,31,100,{"$f":"[1]тестовый!N68","v":0},"литература "]
[29,"Альметьевский",{"$f":"[1]тестовый!C69","v":"МАОУ  \"Лицей №2\""},{"$f":"[1]тестовый!D69","v":"Дуванова"},{"$f":"[1]тестовый!E69","v":"Агата"},{"$f":"[1]тестовый!G69","v":9},{"$f":"[1]тестовый!J69","v":29},null,29,100,{"$f":"[1]тестовый!N69","v":0},"литература "]
[29,"Альметьевский",{"$f":"[1]тестовый!C70","v":"МАОУ \"СОШ№7\""},{"$f":"[1]тестовый!D70","v":"Фазлыева"},{"$f":"[1]тестовый!E70","v":"Аэла"},{"$f":"[1]тестовый!G70","v":9},{"$f":"[1]тестовый!J70","v":29},null,29,100,{"$f":"[1]тестовый!N70","v":0},"литература "]
[26,"Альметьевский",{"$f":"[1]тестовый!C71","v":"МБОУ \"Нижнемактаминская СОШ №1\""},{"$f":"[1]тестовый!D71","v":"Гатауллина"},{"$f":"[1]тестовый!E71","v":"Аделина"},{"$f":"[1]тестовый!G71","v":9},{"$f":"[1]тестовый!J71","v":26},null,26,100,{"$f":"[1]тестовый!N71","v":0},"литература "]
[25,"Альметьевский",{"$f":"[1]тестовый!C72","v":"МБОУ \"СОШ№20\""},{"$f":"[1]тестовый!D72","v":"Зинатуллин"},{"$f":"[1]тестовый!E72","v":"Айдар"},{"$f":"[1]тестовый!G72","v":9},{"$f":"[1]тестовый!J72","v":25},null,25,100,{"$f":"[1]тестовый!N72","v":0},"литература "]
[24,"Альметьевский",{"$f":"[1]тестовый!C73","v":"МБОО «СОШ №25 имени 70-летия нефти Татарстана»"},{"$f":"[1]тестовый!D73","v":"Гаделева"},{"$f":"[1]тестовый!E73","v":"Анна"},{"$f":"[1]тестовый!G73","v":9},{"$f":"[1]тестовый!J73","v":24},null,24,100,{"$f":"[1]тестовый!N73","v":0},"литература "]
[19,"Альметьевский",{"$f":"[1]тестовый!C74","v":"МБОУ «СОШ №13»"},{"$f":"[1]тестовый!D74","v":"Нигматуллин"},{"$f":"[1]тестовый!E74","v":"Ильнар"},{"$f":"[1]тестовый!G74","v":9},{"$f":"[1]тестовый!J74","v":19},null,19,100,{"$f":"[1]тестовый!N74","v":0},"литература "]
[16,"Альметьевский",{"$f":"[1]тестовый!C75","v":"МБОУ \"СОШ №6\""},{"$f":"[1]тестовый!D75","v":"Галимова"},{"$f":"[1]тестовый!E75","v":"Лейла"},{"$f":"[1]тестовый!G75","v":9},{"$f":"[1]тестовый!J75","v":16},1,17,100,{"$f":"[1]тестовый!N75","v":0},"литература "]
[13,"Альметьевский",{"$f":"[1]тестовый!C76","v":"МАОУ «СОШ №17»"},{"$f":"[1]тестовый!D76","v":"Красильникова"},{"$f":"[1]тестовый!E76","v":"Анастасия"},{"$f":"[1]тестовый!G76","v":9},{"$f":"[1]тестовый!J76","v":13},null,13,100,{"$f":"[1]тестовый!N76","v":0},"литература "]
[75,{"$f":"$B$3","v":"Альметьевский"},{"$f":"[1]тестовый!C77","v":"МБОУ  \"СОШ №20\" г. Альметьевска Республики Татарстан"},{"$f":"[1]тестовый!D77","v":"Иванова"},{"$f":"[1]тестовый!E77","v":"Юлия "},10,{"$f":"[1]тестовый!J77","v":82},null,82,{"$f":"$J$52","v":100},"победитель ","литература "]
[76,"Альметьевский",{"$f":"[1]тестовый!C78","v":"МБОО «СОШ №25 имени 70-летия нефти Татарстана»"},{"$f":"[1]тестовый!D78","v":"Исхакова "},{"$f":"[1]тестовый!E78","v":"Диана "},10,{"$f":"[1]тестовый!J78","v":56},null,56,100,"призер ","литература "]
[77,"Альметьевский",{"$f":"[1]тестовый!C79","v":"МАОУ  \"Лицей №2\""},{"$f":"[1]тестовый!D79","v":"Скарликова"},{"$f":"[1]тестовый!E79","v":"Юлия"},10,{"$f":"[1]тестовый!J79","v":53},null,53,100,{"$f":"$K$79","v":"призер "},{"$f":"$L$3","v":"литература "}]
[78,"Альметьевский",{"$f":"[1]тестовый!C80","v":"МАОУ «СОШ №17»"},{"$f":"[1]тестовый!D80","v":"Маннанова"},{"$f":"[1]тестовый!E80","v":"Зарина"},10,{"$f":"[1]тестовый!J80","v":50},null,50,100,{"$f":"$K$79","v":"призер "},"литература "]
[79,"Альметьевский",{"$f":"[1]тестовый!C81","v":"МБОУ \"СОШ №1, им. М.К.Тагирова\""},{"$f":"[1]тестовый!D81","v":"Быченко"},{"$f":"[1]тестовый!E81","v":"Анастасия"},{"$f":"$F$78","v":10},{"$f":"[1]тестовый!J81","v":50},null,50,100,{"$f":"$K$79","v":"призер "},"литература "]
[80,"Альметьевский",{"$f":"[1]тестовый!C82","v":"МАОУ \" СОШ № 10 с углубленным изучением отдельных предметов\""},{"$f":"[1]тестовый!D82","v":"Карамова"},{"$f":"[1]тестовый!E82","v":"Инна"},10,{"$f":"[1]тестовый!J82","v":49},null,49,100,{"$f":"[1]тестовый!N82","v":0},"литература "]
[81,"Альметьевский",{"$f":"[1]тестовый!C83","v":"МАОУ \"Лицей №2\""},{"$f":"[1]тестовый!D83","v":"Кучерова"},{"$f":"[1]тестовый!E83","v":"Валерия"},10,{"$f":"[1]тестовый!J83","v":47},null,47,100,{"$f":"[1]тестовый!N83","v":0},"литература "]
[82,"Альметьевский",{"$f":"[1]тестовый!C84","v":"МБОУ  \"СОШ №21-Образовательный центр \"Дай 5\""},{"$f":"[1]тестовый!D84","v":"Куликова"},{"$f":"[1]тестовый!E84","v":"Ангелина"},10,{"$f":"[1]тестовый!J84","v":41},null,41,100,{"$f":"[1]тестовый!N84","v":0},"литература "]
[83,"Альметьевский",{"$f":"[1]тестовый!C85","v":"МБОУ «СОШ №2»"},{"$f":"[1]тестовый!D85","v":"Мальцева"},{"$f":"[1]тестовый!E85","v":"Дарья"},10,{"$f":"[1]тестовый!J85","v":39},null,39,100,{"$f":"[1]тестовый!N85","v":0},"литература "]
[84,"Альметьевский",{"$f":"[1]тестовый!C86","v":"МАОУ \" СОШ № 10 с углубленным изучением отдельных предметов\""},{"$f":"[1]тестовый!D86","v":"Латыпова "},{"$f":"[1]тестовый!E86","v":"Карина"},10,{"$f":"[1]тестовый!J86","v":38},null,38,100,{"$f":"[1]тестовый!N86","v":0},"литература "]
[85,"Альметьевский",{"$f":"[1]тестовый!C87","v":"МБОУ «СОШ №12»"},{"$f":"[1]тестовый!D87","v":"Гареева"},{"$f":"[1]тестовый!E87","v":"Диана "},10,{"$f":"[1]тестовый!J87","v":34},null,34,{"$f":"$J$52","v":100},{"$f":"[1]тестовый!N87","v":0},"литература "]
[86,"Альметьевский",{"$f":"[1]тестовый!C88","v":"МАОУ \"Гимназия №5\""},{"$f":"[1]тестовый!D88","v":"Егорова "},{"$f":"[1]тестовый!E88","v":"Дарья "},10,{"$f":"[1]тестовый!J88","v":32},null,32,100,{"$f":"[1]тестовый!N88","v":0},"литература "]
[87,"Альметьевский",{"$f":"[1]тестовый!C89","v":"МБОУ\"Нижнемактаминская СОШ№2\""},{"$f":"[1]тестовый!D89","v":"Алимбеков"},{"$f":"[1]тестовый!E89","v":"Радмир"},10,{"$f":"[1]тестовый!J89","v":27},null,27,100,{"$f":"[1]тестовый!N89","v":0},"литература "]
[88,"Альметьевский",{"$f":"[1]тестовый!C90","v":"МБОУ \"СОШ №24\""},{"$f":"[1]тестовый!D90","v":"Хазиева"},{"$f":"[1]тестовый!E90","v":"Рената"},10,{"$f":"[1]тестовый!J90","v":24},null,24,100,{"$f":"[1]тестовый!N90","v":0},"литература "]
[89,"Альметьевский",{"$f":"[1]тестовый!C91","v":"МБОУ\"Нижнемактаминская СОШ№2\""},{"$f":"[1]тестовый!D91","v":"Хубатова"},{"$f":"[1]тестовый!E91","v":"Карина"},10,{"$f":"[1]тестовый!J91","v":24},null,24,100,{"$f":"[1]тестовый!N91","v":0},"литература "]
[90,"Альметьевский",{"$f":"[1]тестовый!C92","v":"МАОУ \" СОШ № 10 с углубленным изучением отдельных предметов\""},{"$f":"[1]тестовый!D92","v":"Устюжанина"},{"$f":"[1]тестовый!E92","v":"Дарья"},10,{"$f":"[1]тестовый!J92","v":24},null,24,100,{"$f":"[1]тестовый!N92","v":0},"литература "]
[91,"Альметьевский",{"$f":"[1]тестовый!C93","v":"МБОУ \"СОШ №24\""},{"$f":"[1]тестовый!D93","v":"Сунгатуллина "},{"$f":"[1]тестовый!E93","v":"Карина"},10,{"$f":"[1]тестовый!J93","v":20},null,20,100,{"$f":"[1]тестовый!N93","v":0},"литература "]
[92,"Альметьевский",{"$f":"[1]тестовый!C94","v":"МБОУ «СОШ №13»"},{"$f":"[1]тестовый!D94","v":"Ганеева"},{"$f":"[1]тестовый!E94","v":"Азалия"},10,{"$f":"[1]тестовый!J94","v":18},null,18,100,{"$f":"[1]тестовый!N94","v":0},"литература "]
[93,"Альметьевский",{"$f":"[1]тестовый!C95","v":"МАОУ ''Лицей-интернат №1''"},{"$f":"[1]тестовый!D95","v":"Мурин"},{"$f":"[1]тестовый!E95","v":"Дмитрий "},10,{"$f":"[1]тестовый!J95","v":17},null,17,100,{"$f":"[1]тестовый!N95","v":0},"литература "]
[94,"Альметьевский",{"$f":"[1]тестовый!C96","v":"МБОУ\"СОШ №11\""},{"$f":"[1]тестовый!D96","v":"Тихонов"},{"$f":"[1]тестовый!E96","v":"Аскар"},10,{"$f":"[1]тестовый!J96","v":17},null,17,100,{"$f":"[1]тестовый!N96","v":0},"литература "]
[95,"Альметьевский",{"$f":"[1]тестовый!C97","v":"МБОУ\"СОШ №11\""},{"$f":"[1]тестовый!D97","v":"Шипунова"},{"$f":"[1]тестовый!E97","v":"Елизавета"},10,{"$f":"[1]тестовый!J97","v":11},null,11,100,{"$f":"[1]тестовый!N97","v":0},"литература "]
[96,"Альметьевский",{"$f":"[1]тестовый!C98","v":"МБОУ \"СОШ  №1, им. М.К.Тагирова\""},{"$f":"[1]тестовый!D98","v":"Мулюкова"},{"$f":"[1]тестовый!E98","v":"Динара"},11,{"$f":"[1]тестовый!J98","v":88},null,{"$f":"G99","v":88},100,"победитель ","литература "]
[97,"Альметьевский",{"$f":"[1]тестовый!C99","v":"МАОУ \" Гимназия №5\""},{"$f":"[1]тестовый!D99","v":"Музафарова"},{"$f":"[1]тестовый!E99","v":"Аида"},11,{"$f":"[1]тестовый!J99","v":81},null,81,100,{"$f":"$K$99","v":"победитель "},"литература "]
[98,{"$f":"$B$3","v":"Альметьевский"},{"$f":"[1]тестовый!C100","v":"МБОУ \"Гимназия №1 им.Р.Фахретдина\""},{"$f":"[1]тестовый!D100","v":"Газымова"},{"$f":"[1]тестовый!E100","v":"Лилия"},11,{"$f":"[1]тестовый!J100","v":73},null,73,100,"призер ","литература "]
[99,"Альметьевский",{"$f":"[1]тестовый!C101","v":"МАОУ \"Лицей №2\""},{"$f":"[1]тестовый!D101","v":"Седельников"},{"$f":"[1]тестовый!E101","v":"Роман"},{"$f":"[1]тестовый!G101","v":11},{"$f":"[1]тестовый!J101","v":63},null,63,100,{"$f":"$K$101","v":"призер "},"литература "]
[100,"Альметьевский",{"$f":"[1]тестовый!C102","v":"МБОУ \"СОШ №11\""},{"$f":"[1]тестовый!D102","v":"Шайхулисламова"},{"$f":"[1]тестовый!E102","v":"Алия"},11,{"$f":"[1]тестовый!J102","v":55},null,55,100,{"$f":"$K$101","v":"призер "},"литература "]
[101,"Альметьевский",{"$f":"[1]тестовый!C103","v":"МБОУ Р.Акташская СОШ"},{"$f":"[1]тестовый!D103","v":"Некрасова"},{"$f":"[1]тестовый!E103","v":"Анастасия"},11,{"$f":"[1]тестовый!J103","v":51},null,51,100,{"$f":"$K$101","v":"призер "},"литература "]
[102,"Альметьевский",{"$f":"[1]тестовый!C104","v":"МАОУ «СОШ №16»"},{"$f":"[1]тестовый!D104","v":"Фазулзянов"},{"$f":"[1]тестовый!E104","v":"Руслан"},11,{"$f":"[1]тестовый!J104","v":44},null,44,100,{"$f":"[1]тестовый!N104","v":0},"литература "]
[103,"Альметьевский",{"$f":"[1]тестовый!C105","v":"МБОУ\"Нижнемактаминская СОШ№2\""},{"$f":"[1]тестовый!D105","v":"Зарипова"},{"$f":"[1]тестовый!E105","v":"Ляйсан"},11,{"$f":"[1]тестовый!J105","v":44},null,44,100,{"$f":"[1]тестовый!N105","v":0},"литература "]
[104,"Альметьевский",{"$f":"[1]тестовый!C106","v":"ЧОУ СШ №23 \"Менеджер\""},{"$f":"[1]тестовый!D106","v":"Бердникова "},{"$f":"[1]тестовый!E106","v":"Юлия"},11,{"$f":"[1]тестовый!J106","v":44},null,44,100,{"$f":"[1]тестовый!N106","v":0},"литература "]
[105,"Альметьевский",{"$f":"[1]тестовый!C107","v":"МБОУ \"СОШ №20\""},{"$f":"[1]тестовый!D107","v":"Гимадеева"},{"$f":"[1]тестовый!E107","v":"Алиса"},11,{"$f":"[1]тестовый!J107","v":44},null,44,100,{"$f":"[1]тестовый!N107","v":0},"литература "]
[106,"Альметьевский",{"$f":"[1]тестовый!C108","v":"МАОУ \" СОШ № 10 с углубленным изучением отдельных предметов\""},{"$f":"[1]тестовый!D108","v":"Никифорова"},{"$f":"[1]тестовый!E108","v":"Дарья"},11,{"$f":"[1]тестовый!J108","v":40},null,40,100,{"$f":"[1]тестовый!N108","v":0},"литература "]
[107,"Альметьевский",{"$f":"[1]тестовый!C109","v":"МБОУ «СОШ №15»"},{"$f":"[1]тестовый!D109","v":"Муринова"},{"$f":"[1]тестовый!E109","v":"Олеся"},11,{"$f":"[1]тестовый!J109","v":40},null,40,100,{"$f":"[1]тестовый!N109","v":0},"литература "]
[108,"Альметьевский",{"$f":"[1]тестовый!C110","v":"МБОУ \"СОШ №3\""},{"$f":"[1]тестовый!D110","v":"Дорофеев"},{"$f":"[1]тестовый!E110","v":"Кирилл"},11,{"$f":"[1]тестовый!J110","v":39},null,39,100,{"$f":"[1]тестовый!N110","v":0},"литература "]
[109,"Альметьевский",{"$f":"[1]тестовый!C111","v":"МБОУ \"СОШ №3\""},{"$f":"[1]тестовый!D111","v":"Эркаева"},{"$f":"[1]тестовый!E111","v":"Сабина"},11,{"$f":"[1]тестовый!J111","v":35},null,35,100,{"$f":"[1]тестовый!N111","v":0},{"$f":"$L$3","v":"литература "}]
[110,"Альметьевский",{"$f":"[1]тестовый!C112","v":"МАОУ \"Гимназия №5\""},{"$f":"[1]тестовый!D112","v":"Захарова"},{"$f":"[1]тестовый!E112","v":"Дарья"},11,{"$f":"[1]тестовый!J112","v":34},null,34,100,{"$f":"[1]тестовый!N112","v":0},"литература "]
[111,"Альметьевский",{"$f":"[1]тестовый!C113","v":"МАОУ \"Гимназия №5\""},{"$f":"[1]тестовый!D113","v":"Алиева"},{"$f":"[1]тестовый!E113","v":"Аделина"},11,{"$f":"[1]тестовый!J113","v":32},null,32,100,{"$f":"[1]тестовый!N113","v":0},"литература "]
[112,"Альметьевский",{"$f":"[1]тестовый!C114","v":"МАОУ ''Лицей-интернат №1''"},{"$f":"[1]тестовый!D114","v":"Левченко"},{"$f":"[1]тестовый!E114","v":"Артур "},11,{"$f":"[1]тестовый!J114","v":32},null,32,100,{"$f":"[1]тестовый!N114","v":0},"литература "]
[113,"Альметьевский",{"$f":"[1]тестовый!C115","v":"МБОУ \"СОШ №4\""},{"$f":"[1]тестовый!D115","v":"Шайхулова"},{"$f":"[1]тестовый!E115","v":"Регина"},11,{"$f":"[1]тестовый!J115","v":27},null,27,100,{"$f":"[1]тестовый!N115","v":0},"литература "]
[114,"Альметьевский",{"$f":"[1]тестовый!C116","v":"МАОУ \"СОШ\"7\""},{"$f":"[1]тестовый!D116","v":"Шарипова"},{"$f":"[1]тестовый!E116","v":"Зарина"},11,{"$f":"[1]тестовый!J116","v":26},null,26,100,{"$f":"[1]тестовый!N116","v":0},"литература "]
[115,"Альметьевский",{"$f":"[1]тестовый!C117","v":"МБОУ\"Нижнемактаминская СОШ№2\""},{"$f":"[1]тестовый!D117","v":"Давлетшина"},{"$f":"[1]тестовый!E117","v":"Алтынай"},11,{"$f":"[1]тестовый!J117","v":26},null,26,100,{"$f":"[1]тестовый!N117","v":0},"литература "]
[116,"Альметьевский",{"$f":"[1]тестовый!C118","v":"МБОУ «СОШ №12»"},{"$f":"[1]тестовый!D118","v":"Шайхутдинова"},{"$f":"[1]тестовый!E118","v":"Лия"},11,{"$f":"[1]тестовый!J118","v":24},null,24,100,{"$f":"[1]тестовый!N118","v":0},"литература "]
[117,"Альметьевский",{"$f":"[1]тестовый!C119","v":"МБОУ \"СОШ №1, им. М.К.Тагирова\""},{"$f":"[1]тестовый!D119","v":"Кашапова"},{"$f":"[1]тестовый!E119","v":"Ванесса"},11,{"$f":"[1]тестовый!J119","v":24},null,24,100,{"$f":"[1]тестовый!N119","v":0},"литература "]
[118,"Альметьевский",{"$f":"[1]тестовый!C120","v":"МБОУ \"СОШ №4\""},{"$f":"[1]тестовый!D120","v":"Хасаншин"},{"$f":"[1]тестовый!E120","v":"Азат"},11,{"$f":"[1]тестовый!J120","v":21},null,21,100,{"$f":"[1]тестовый!N120","v":0},"литература "]
[119,"Альметьевский",{"$f":"[1]тестовый!C121","v":"МБОУ \"СОШ №3\""},{"$f":"[1]тестовый!D121","v":"Гафурова"},{"$f":"[1]тестовый!E121","v":"Алина"},11,{"$f":"[1]тестовый!J121","v":19},null,19,100,{"$f":"[1]тестовый!N121","v":0},"литература "]
[120,"Альметьевский",{"$f":"[1]тестовый!C122","v":"МБОУ «СОШ №16»"},{"$f":"[1]тестовый!D122","v":"Мустафина"},{"$f":"[1]тестовый!E122","v":"Алина"},11,{"$f":"[1]тестовый!J122","v":14},null,14,100,{"$f":"[1]тестовый!N122","v":0},"литература "]
[121,"Альметьевский",{"$f":"[1]тестовый!C123","v":"МБОУ «СОШ №13»"},{"$f":"[1]тестовый!D123","v":"Однороженко"},{"$f":"[1]тестовый!E123","v":"Ангелина"},11,{"$f":"[1]тестовый!J123","v":4},null,4,100,{"$f":"[1]тестовый!N123","v":0},"литература "]